BEGIN:VCALENDAR
VERSION:2.0
PRODID:-//IESP - ECPv6.0.7.1//NONSGML v1.0//EN
CALSCALE:GREGORIAN
METHOD:PUBLISH
X-ORIGINAL-URL:https://iesp.uerj.br
X-WR-CALDESC:Eventos para IESP
REFRESH-INTERVAL;VALUE=DURATION:PT1H
X-Robots-Tag:noindex
X-PUBLISHED-TTL:PT1H
BEGIN:VTIMEZONE
TZID:America/Sao_Paulo
BEGIN:STANDARD
TZOFFSETFROM:-0200
TZOFFSETTO:-0300
TZNAME:-03
DTSTART:20180218T020000
END:STANDARD
BEGIN:DAYLIGHT
TZOFFSETFROM:-0300
TZOFFSETTO:-0200
TZNAME:-02
DTSTART:20181104T030000
END:DAYLIGHT
END:VTIMEZONE
BEGIN:VEVENT
DTSTART;TZID=America/Sao_Paulo:20180507T140000
DTEND;TZID=America/Sao_Paulo:20180507T170000
DTSTAMP:20260422T145943
CREATED:20180308T205805Z
LAST-MODIFIED:20180308T205805Z
UID:16365-1525701600-1525712400@iesp.uerj.br
SUMMARY:Defesa de Tese: Isabel Cristina Veloso de Oliveira
DESCRIPTION:[:pb] \nO Programa de Pós-Graduação em Ciência Política convida\npara:\nDefesa de Tese\nDos púlpitos aos palanques: a trajetória dos\nevangélicos na política institucional brasileira\nde\nIsabel Cristina Veloso de Oliveira \n  \nBanca Examinadora:\nProf. Dr. Fernando Henrique Eduardo Guarnieri (Orientador)\nProf. Dr. Fabiano Guilherme Mendes Santos (IESP)\nProf.ª Dr.ª Cecília Loreto Mariz (UERJ)\nProf. Dr. Vinícius Werneck Barbosa Diniz (FUNDAJ)\nProf. Dr. Ricardo Mariano (USP) \nDia 07 de Maio de 2018\, segunda–feira\, às 14:00 horas \nRua da Matriz\, 82 – Botafogo[:]
URL:https://iesp.uerj.br/evento/defesa-de-tese-isabel-cristina-veloso-de-oliveira/
LOCATION:Defesa: Alexsander Matheus Araújo Costa\, RJ
END:VEVENT
BEGIN:VEVENT
DTSTART;TZID=America/Sao_Paulo:20180507T140000
DTEND;TZID=America/Sao_Paulo:20180507T170000
DTSTAMP:20260422T145943
CREATED:20180308T205805Z
LAST-MODIFIED:20180308T205805Z
UID:16651-1525701600-1525712400@iesp.uerj.br
SUMMARY:Defesa de Tese: Isabel Cristina Veloso de Oliveira
DESCRIPTION:[:pb] \nO Programa de Pós-Graduação em Ciência Política convida\npara:\nDefesa de Tese\nDos púlpitos aos palanques: a trajetória dos\nevangélicos na política institucional brasileira\nde\nIsabel Cristina Veloso de Oliveira \n  \nBanca Examinadora:\nProf. Dr. Fernando Henrique Eduardo Guarnieri (Orientador)\nProf. Dr. Fabiano Guilherme Mendes Santos (IESP)\nProf.ª Dr.ª Cecília Loreto Mariz (UERJ)\nProf. Dr. Vinícius Werneck Barbosa Diniz (FUNDAJ)\nProf. Dr. Ricardo Mariano (USP) \nDia 07 de Maio de 2018\, segunda–feira\, às 14:00 horas \nRua da Matriz\, 82 – Botafogo[:]
URL:https://iesp.uerj.br/evento/defesa-de-tese-isabel-cristina-veloso-de-oliveira-2/
LOCATION:Defesa: Alexsander Matheus Araújo Costa\, RJ
END:VEVENT
BEGIN:VEVENT
DTSTART;TZID=America/Sao_Paulo:20180507T140000
DTEND;TZID=America/Sao_Paulo:20180507T170000
DTSTAMP:20260422T145943
CREATED:20180503T135011Z
LAST-MODIFIED:20180503T135011Z
UID:16390-1525701600-1525712400@iesp.uerj.br
SUMMARY:Defesa de Tese: Alexander David Anton Couto Englander
DESCRIPTION:[:pb] \nO Programa de Pós-Graduação em Sociologia convida para:\nDefesa de Tese\n“Democratização\, demofobia e conflitos sociais:\num estudo teórico e histórico-sociológico sobre a\n4ª República brasileira 1946-1964”\nde\nAlexander David Anton Couto Englander \nBanca Examinadora: \nProf.  Dr. Adalberto Moreira Cardoso (Orientador)\nProf.  Dr. Cesar Augusto Coelho Guimarães (IESP)\nProf.  Dr. Christian Edward Cyril Lynch (IESP)\nProf.ª Dr.ª Elina Gonçalves da Fonte Pessanha (UFRJ)\nProf.  Dr. José Ricardo Garcia Pereira Ramalho (UFRJ) \nDia 07 de Maio de 2018\, segunda-feira\, às 14:00 horas \nRua da Matriz\, 82 – Botafogo[:]
URL:https://iesp.uerj.br/evento/defesa-de-tese-alexander-david-anton-couto-englander/
LOCATION:Defesa: Alexsander Matheus Araújo Costa\, RJ
END:VEVENT
BEGIN:VEVENT
DTSTART;TZID=America/Sao_Paulo:20180507T140000
DTEND;TZID=America/Sao_Paulo:20180507T170000
DTSTAMP:20260422T145943
CREATED:20180503T135011Z
LAST-MODIFIED:20180503T135011Z
UID:16676-1525701600-1525712400@iesp.uerj.br
SUMMARY:Defesa de Tese: Alexander David Anton Couto Englander
DESCRIPTION:[:pb] \nO Programa de Pós-Graduação em Sociologia convida para:\nDefesa de Tese\n“Democratização\, demofobia e conflitos sociais:\num estudo teórico e histórico-sociológico sobre a\n4ª República brasileira 1946-1964”\nde\nAlexander David Anton Couto Englander \nBanca Examinadora: \nProf.  Dr. Adalberto Moreira Cardoso (Orientador)\nProf.  Dr. Cesar Augusto Coelho Guimarães (IESP)\nProf.  Dr. Christian Edward Cyril Lynch (IESP)\nProf.ª Dr.ª Elina Gonçalves da Fonte Pessanha (UFRJ)\nProf.  Dr. José Ricardo Garcia Pereira Ramalho (UFRJ) \nDia 07 de Maio de 2018\, segunda-feira\, às 14:00 horas \nRua da Matriz\, 82 – Botafogo[:]
URL:https://iesp.uerj.br/evento/defesa-de-tese-alexander-david-anton-couto-englander-2/
LOCATION:Defesa: Alexsander Matheus Araújo Costa\, RJ
END:VEVENT
END:VCALENDAR