BEGIN:VCALENDAR
VERSION:2.0
PRODID:-//IESP - ECPv6.0.7.1//NONSGML v1.0//EN
CALSCALE:GREGORIAN
METHOD:PUBLISH
X-ORIGINAL-URL:https://iesp.uerj.br
X-WR-CALDESC:Eventos para IESP
REFRESH-INTERVAL;VALUE=DURATION:PT1H
X-Robots-Tag:noindex
X-PUBLISHED-TTL:PT1H
BEGIN:VTIMEZONE
TZID:America/Sao_Paulo
BEGIN:STANDARD
TZOFFSETFROM:-0200
TZOFFSETTO:-0300
TZNAME:-03
DTSTART:20170219T020000
END:STANDARD
BEGIN:DAYLIGHT
TZOFFSETFROM:-0300
TZOFFSETTO:-0200
TZNAME:-02
DTSTART:20171015T030000
END:DAYLIGHT
END:VTIMEZONE
BEGIN:VEVENT
DTSTART;TZID=America/Sao_Paulo:20171201T140000
DTEND;TZID=America/Sao_Paulo:20171201T170000
DTSTAMP:20260424T014726
CREATED:20171116T184454Z
LAST-MODIFIED:20171116T184454Z
UID:16357-1512136800-1512147600@iesp.uerj.br
SUMMARY:Seminário: Geoffrey Pleyers
DESCRIPTION:[:pb]  \nMovimentos sociais e polarização política no mundo contemporâneo \n\n[:]
URL:https://iesp.uerj.br/evento/seminario-geoffrey-pleyers/
LOCATION:Defesa: Alexsander Matheus Araújo Costa\, RJ
END:VEVENT
BEGIN:VEVENT
DTSTART;TZID=America/Sao_Paulo:20171201T140000
DTEND;TZID=America/Sao_Paulo:20171201T170000
DTSTAMP:20260424T014726
CREATED:20171116T184454Z
LAST-MODIFIED:20171116T184454Z
UID:16643-1512136800-1512147600@iesp.uerj.br
SUMMARY:Seminário: Geoffrey Pleyers
DESCRIPTION:[:pb]  \nMovimentos sociais e polarização política no mundo contemporâneo \n\n[:]
URL:https://iesp.uerj.br/evento/seminario-geoffrey-pleyers-2/
LOCATION:Defesa: Alexsander Matheus Araújo Costa\, RJ
END:VEVENT
END:VCALENDAR