BEGIN:VCALENDAR
VERSION:2.0
PRODID:-//IESP - ECPv6.0.7.1//NONSGML v1.0//EN
CALSCALE:GREGORIAN
METHOD:PUBLISH
X-ORIGINAL-URL:https://iesp.uerj.br
X-WR-CALDESC:Eventos para IESP
REFRESH-INTERVAL;VALUE=DURATION:PT1H
X-Robots-Tag:noindex
X-PUBLISHED-TTL:PT1H
BEGIN:VTIMEZONE
TZID:America/Sao_Paulo
BEGIN:STANDARD
TZOFFSETFROM:-0200
TZOFFSETTO:-0300
TZNAME:-03
DTSTART:20170219T020000
END:STANDARD
BEGIN:DAYLIGHT
TZOFFSETFROM:-0300
TZOFFSETTO:-0200
TZNAME:-02
DTSTART:20171015T030000
END:DAYLIGHT
END:VTIMEZONE
BEGIN:VEVENT
DTSTART;TZID=America/Sao_Paulo:20171005T093000
DTEND;TZID=America/Sao_Paulo:20171005T200000
DTSTAMP:20260424T014725
CREATED:20170928T155455Z
LAST-MODIFIED:20170928T155455Z
UID:16350-1507195800-1507233600@iesp.uerj.br
SUMMARY:III Semana Discente IESP-UERJ
DESCRIPTION:[:pb] \n\n\n\n9h30\n Grupos de Trabalho\n\n\n\nESTUDOS SOBRE AMÉRICA LATINA [sala de reuniões]Debatedora: Tatiana Oliveira (PPGRI- UERJ)\n\n\n 14h\nGrupos de Trabalho\n\n\n\nMOVIMENTOS SOCIAIS E CONTESTAÇÃO POLÍTICA [sala de aula]Debatedora: Simone Gomes (IESP-UERJ)\n\n\n16h\n\nOFICINA [sala de reuniões]Oficina de Escrita para as mulheres \nCarolina Rocha\n\n\n 18h30\nMesa 2 [sala de aula]\n\n\n\n\nSAÚDE MENTAL NA PÓS-GRADUAÇÃOKarina Kuschnir (Antropóloga – UFRJ) \nRafael Martins Coelho (Psiquiatra e doutorando do Instituto D’or) \nMediação: Matheus Moravia\n\n\n\n[:]
URL:https://iesp.uerj.br/evento/iii-semana-discente-iesp-uerj-5/
LOCATION:Defesa: Alexsander Matheus Araújo Costa\, RJ
END:VEVENT
BEGIN:VEVENT
DTSTART;TZID=America/Sao_Paulo:20171005T093000
DTEND;TZID=America/Sao_Paulo:20171005T200000
DTSTAMP:20260424T014725
CREATED:20170928T155455Z
LAST-MODIFIED:20170928T155455Z
UID:16636-1507195800-1507233600@iesp.uerj.br
SUMMARY:III Semana Discente IESP-UERJ
DESCRIPTION:[:pb] \n\n\n\n9h30\n Grupos de Trabalho\n\n\n\nESTUDOS SOBRE AMÉRICA LATINA [sala de reuniões]Debatedora: Tatiana Oliveira (PPGRI- UERJ)\n\n\n 14h\nGrupos de Trabalho\n\n\n\nMOVIMENTOS SOCIAIS E CONTESTAÇÃO POLÍTICA [sala de aula]Debatedora: Simone Gomes (IESP-UERJ)\n\n\n16h\n\nOFICINA [sala de reuniões]Oficina de Escrita para as mulheres \nCarolina Rocha\n\n\n 18h30\nMesa 2 [sala de aula]\n\n\n\n\nSAÚDE MENTAL NA PÓS-GRADUAÇÃOKarina Kuschnir (Antropóloga – UFRJ) \nRafael Martins Coelho (Psiquiatra e doutorando do Instituto D’or) \nMediação: Matheus Moravia\n\n\n\n[:]
URL:https://iesp.uerj.br/evento/iii-semana-discente-iesp-uerj-5-2/
LOCATION:Defesa: Alexsander Matheus Araújo Costa\, RJ
END:VEVENT
END:VCALENDAR