BEGIN:VCALENDAR
VERSION:2.0
PRODID:-//IESP - ECPv6.0.7.1//NONSGML v1.0//EN
CALSCALE:GREGORIAN
METHOD:PUBLISH
X-WR-CALNAME:IESP
X-ORIGINAL-URL:https://iesp.uerj.br
X-WR-CALDESC:Eventos para IESP
REFRESH-INTERVAL;VALUE=DURATION:PT1H
X-Robots-Tag:noindex
X-PUBLISHED-TTL:PT1H
BEGIN:VTIMEZONE
TZID:America/Sao_Paulo
BEGIN:STANDARD
TZOFFSETFROM:-0200
TZOFFSETTO:-0300
TZNAME:-03
DTSTART:20170219T020000
END:STANDARD
BEGIN:DAYLIGHT
TZOFFSETFROM:-0300
TZOFFSETTO:-0200
TZNAME:-02
DTSTART:20171015T030000
END:DAYLIGHT
END:VTIMEZONE
BEGIN:VEVENT
DTSTART;TZID=America/Sao_Paulo:20170912T140000
DTEND;TZID=America/Sao_Paulo:20170912T170000
DTSTAMP:20260424T094707
CREATED:20170810T204800Z
LAST-MODIFIED:20170810T204800Z
UID:16333-1505224800-1505235600@iesp.uerj.br
SUMMARY:Palestra: Rogerio Mugnaini
DESCRIPTION:[:pb]Avaliação de periódicos científicos no Brasil: relação entre produção e impacto da (e na) pesquisa nacional[:]
URL:https://iesp.uerj.br/evento/palestra-rogerio-mugnaini/
LOCATION:Defesa: Alexsander Matheus Araújo Costa\, RJ
END:VEVENT
BEGIN:VEVENT
DTSTART;TZID=America/Sao_Paulo:20170912T140000
DTEND;TZID=America/Sao_Paulo:20170912T170000
DTSTAMP:20260424T094707
CREATED:20170810T204800Z
LAST-MODIFIED:20170810T204800Z
UID:16619-1505224800-1505235600@iesp.uerj.br
SUMMARY:Palestra: Rogerio Mugnaini
DESCRIPTION:[:pb]Avaliação de periódicos científicos no Brasil: relação entre produção e impacto da (e na) pesquisa nacional[:]
URL:https://iesp.uerj.br/evento/palestra-rogerio-mugnaini-2/
LOCATION:Defesa: Alexsander Matheus Araújo Costa\, RJ
END:VEVENT
END:VCALENDAR